BEGIN:VCALENDAR
PRODID:-//Riksbanken//riksbanken.se//SV
VERSION:2.0
BEGIN:VEVENT
DTSTART:20250526T070000Z
DTSTAMP:20260423T133122Z
UID:bb4faa6201094118b10dfe054b6fdc0e
CREATED:20260423T133122Z
DESCRIPTION:
LAST-MODIFIED:20260423T133122Z
LOCATION:
SEQUENCE:0
STATUS:CONFIRMED
SUMMARY:Meeting of the Executive Board of the Riksbank
TRANSP:OPAQUE
END:VEVENT
END:VCALENDAR
