BEGIN:VCALENDAR
PRODID:-//Riksbanken//riksbanken.se//SV
VERSION:2.0
BEGIN:VEVENT
DTSTART:20250527T073000Z
DTSTAMP:20260423T133122Z
UID:0bed85193d5c455ab004827fcb4c0e73
CREATED:20260423T133122Z
DESCRIPTION:Representatives of the Riksbank, Finansinspektionen (the Swedish FSA), the Swedish National Debt Office and the Government will gather for a meeting of the Financial Stability Council.  
More information about Financial Stability Council. https://www.government.se/government-policy/the-financial-stability-council/
LAST-MODIFIED:20260423T133122Z
LOCATION:
SEQUENCE:0
STATUS:CONFIRMED
SUMMARY:Financial Stability Council
TRANSP:OPAQUE
END:VEVENT
END:VCALENDAR
