BEGIN:VCALENDAR
PRODID:-//Riksbanken//riksbanken.se//SV
VERSION:2.0
BEGIN:VEVENT
DTSTART:20250528T073000Z
DTSTAMP:20260423T133042Z
UID:d5adbbfef29d4be6b1fefb435199cc08
CREATED:20260423T133042Z
DESCRIPTION:The first Financial Stability Report of the year will be published.
LAST-MODIFIED:20260423T133042Z
LOCATION:
SEQUENCE:0
STATUS:CONFIRMED
SUMMARY:The Financial Stability Report 2025:1 will be published
TRANSP:OPAQUE
END:VEVENT
END:VCALENDAR
