BEGIN:VCALENDAR
PRODID:-//Riksbanken//riksbanken.se//SV
VERSION:2.0
BEGIN:VEVENT
DTSTART:20250610T120000Z
DTSTAMP:20260423T074040Z
UID:dc581ada8b944448821c909332bf1a03
CREATED:20260423T074040Z
DESCRIPTION:
LAST-MODIFIED:20260423T074040Z
LOCATION:
SEQUENCE:0
STATUS:CONFIRMED
SUMMARY:Meeting of the Executive Board of the Riksbank
TRANSP:OPAQUE
END:VEVENT
END:VCALENDAR
