BEGIN:VCALENDAR
PRODID:-//Riksbanken//riksbanken.se//SV
VERSION:2.0
BEGIN:VEVENT
DTSTART:20250610T073000Z
DTSTAMP:20260423T074407Z
UID:d33e5f4f827e41469847e06f1225a6db
CREATED:20260423T074407Z
DESCRIPTION:
LAST-MODIFIED:20260423T074407Z
LOCATION:
SEQUENCE:0
STATUS:CONFIRMED
SUMMARY:The Riksbank's Business Survey, May 2025
TRANSP:OPAQUE
END:VEVENT
END:VCALENDAR
