BEGIN:VCALENDAR
PRODID:-//Riksbanken//riksbanken.se//SV
VERSION:2.0
BEGIN:VEVENT
DTSTART:20250613T110000Z
DTEND:20250613T130000Z
DTSTAMP:20260423T074218Z
UID:8e0702a784084fb69c71c41810f38347
CREATED:20260423T074218Z
DESCRIPTION:
LAST-MODIFIED:20260423T074218Z
LOCATION:
SEQUENCE:0
STATUS:CONFIRMED
SUMMARY:Meeting of the General Council of the Riksbank
TRANSP:OPAQUE
END:VEVENT
END:VCALENDAR
