BEGIN:VCALENDAR
PRODID:-//Riksbanken//riksbanken.se//SV
VERSION:2.0
BEGIN:VEVENT
DTSTART:20250617T083000Z
DTSTAMP:20260423T074304Z
UID:39925f21384040b99c9036bbca81efb0
CREATED:20260423T074304Z
DESCRIPTION:
LAST-MODIFIED:20260423T074304Z
LOCATION:
SEQUENCE:0
STATUS:CONFIRMED
SUMMARY:Meeting of the Executive Board of the Riksbank
TRANSP:OPAQUE
END:VEVENT
END:VCALENDAR
