BEGIN:VCALENDAR
PRODID:-//Riksbanken//riksbanken.se//SV
VERSION:2.0
BEGIN:VEVENT
DTSTART:20250625T070000Z
DTSTAMP:20260423T074111Z
UID:7bbe7119bb63425aa2343f463059c446
CREATED:20260423T074111Z
DESCRIPTION:
LAST-MODIFIED:20260423T074111Z
LOCATION:
SEQUENCE:0
STATUS:CONFIRMED
SUMMARY:Meeting of the Executive Board of the Riksbank
TRANSP:OPAQUE
END:VEVENT
END:VCALENDAR
