BEGIN:VCALENDAR
PRODID:-//Riksbanken//riksbanken.se//SV
VERSION:2.0
BEGIN:VEVENT
DTSTART:20250625T073000Z
DTSTAMP:20260423T073942Z
UID:863cac651f02419ea1e370a5984b3705
CREATED:20260423T073942Z
DESCRIPTION:The minutes from the Executive Board's monetary policy discussion on 17 June 2025 will be published.
LAST-MODIFIED:20260423T073942Z
LOCATION:
SEQUENCE:0
STATUS:CONFIRMED
SUMMARY:Publication of the minutes from the monetary policy meeting
TRANSP:OPAQUE
END:VEVENT
END:VCALENDAR
