BEGIN:VCALENDAR
PRODID:-//Riksbanken//riksbanken.se//SV
VERSION:2.0
BEGIN:VEVENT
DTSTART:20250701T083000Z
DTSTAMP:20260423T133044Z
UID:ad9d4007757d408b93b86e077bb15b48
CREATED:20260423T133044Z
DESCRIPTION:Governor Erik Thedéen gives a speech on financial regulation in his capacity as Chair of the Basel Committee on Banking Supervision (BCBS). The speech is being held during the International Business Forum conference in Seville. The speech will be published on the Bank for International Settlements (BIS) website at 10.30 a.m. on the same day.
Speech:Resilient by design: why strong rules still matter (BCBS speech)\n\nOrganiser:  FFD4 Business Steering Committee
LAST-MODIFIED:20260423T133044Z
LOCATION:Seville, Spain
SEQUENCE:0
STATUS:CONFIRMED
SUMMARY:Erik Thedéen: Resilient by design: Why strong rules still matter
TRANSP:OPAQUE
END:VEVENT
END:VCALENDAR
