BEGIN:VCALENDAR
PRODID:-//Riksbanken//riksbanken.se//SV
VERSION:2.0
BEGIN:VEVENT
DTSTART:20250702T103000Z
DTSTAMP:20260423T133045Z
UID:f91a3aa167b84305ba612d065ef04ecf
CREATED:20260423T133045Z
DESCRIPTION:Deputy Governor Anna Seim attends the European Central Bank Forum on Central Banking in Sintra, where she is speaking in a panel discussion on central bank communication.
The speech starts at 11:30 Portuguese time (WEST CET -1) and 12:30 Swedish time.
For further information: ECB Forum on Central Banking
LAST-MODIFIED:20260423T133045Z
LOCATION:Sintra, Portugal and online
SEQUENCE:0
STATUS:CONFIRMED
SUMMARY:Seim: “Central Bank Communication: Current Challenges”
TRANSP:OPAQUE
END:VEVENT
END:VCALENDAR
