BEGIN:VCALENDAR
PRODID:-//Riksbanken//riksbanken.se//SV
VERSION:2.0
BEGIN:VEVENT
DTSTART:20250819T070000Z
DTSTAMP:20260423T104503Z
UID:d70e01fd0c554aeb916d29fcc934bda5
CREATED:20260423T104503Z
DESCRIPTION:Monetary policy meeting at which the Executive Board takes a decision on monetary policy including the policy rate.
LAST-MODIFIED:20260423T104503Z
LOCATION:
SEQUENCE:0
STATUS:CONFIRMED
SUMMARY:Monetary policy meeting: Decision on monetary policy including the policy rate
TRANSP:OPAQUE
END:VEVENT
END:VCALENDAR
