BEGIN:VCALENDAR
PRODID:-//Riksbanken//riksbanken.se//SV
VERSION:2.0
BEGIN:VEVENT
DTSTART:20250820T073000Z
DTSTAMP:20260423T104415Z
UID:b441081f0518499f83f40549b4446236
CREATED:20260423T104415Z
DESCRIPTION:The Executive Board’s monetary policy decision, including the decision on the policy rate, will be published together with the Monetary Policy Update for August 2025.
The decision on the level of the policy rate will apply from 27 August 2025.
LAST-MODIFIED:20260423T104415Z
LOCATION:
SEQUENCE:0
STATUS:CONFIRMED
SUMMARY:Publication of monetary policy decision, including the policy rate, and the Monetary Policy Update
TRANSP:OPAQUE
END:VEVENT
END:VCALENDAR
