BEGIN:VCALENDAR
PRODID:-//Riksbanken//riksbanken.se//SV
VERSION:2.0
BEGIN:VEVENT
DTSTART:20250826T073000Z
DTSTAMP:20260423T104533Z
UID:54a07c65c5744081b430c356d7e899e2
CREATED:20260423T104533Z
DESCRIPTION:The minutes from the Executive Board's monetary policy discussion on 19 August 2025 will be published.
LAST-MODIFIED:20260423T104533Z
LOCATION:
SEQUENCE:0
STATUS:CONFIRMED
SUMMARY:Publication of the minutes from the monetary policy meeting
TRANSP:OPAQUE
END:VEVENT
END:VCALENDAR
