BEGIN:VCALENDAR
PRODID:-//Riksbanken//riksbanken.se//SV
VERSION:2.0
BEGIN:VEVENT
DTSTART:20250826T070000Z
DTSTAMP:20260423T104612Z
UID:aa17f849be3d40f99c3f8594ac9907a2
CREATED:20260423T104612Z
DESCRIPTION:
LAST-MODIFIED:20260423T104612Z
LOCATION:
SEQUENCE:0
STATUS:CONFIRMED
SUMMARY:Meeting of the Executive Board of the Riksbank
TRANSP:OPAQUE
END:VEVENT
END:VCALENDAR
