BEGIN:VCALENDAR
PRODID:-//Riksbanken//riksbanken.se//SV
VERSION:2.0
BEGIN:VEVENT
DTSTART:20250829T110000Z
DTEND:20250829T130000Z
DTSTAMP:20260423T104421Z
UID:5b2a56ed99714bf3abdd36b1f5e58d57
CREATED:20260423T104421Z
DESCRIPTION:
LAST-MODIFIED:20260423T104421Z
LOCATION:
SEQUENCE:0
STATUS:CONFIRMED
SUMMARY:Meeting of the General Council of the Riksbank
TRANSP:OPAQUE
END:VEVENT
END:VCALENDAR
