BEGIN:VCALENDAR
PRODID:-//Riksbanken//riksbanken.se//SV
VERSION:2.0
BEGIN:VEVENT
DTSTART:20250909T132000Z
DTSTAMP:20260423T133120Z
UID:8e1ef3901fd04e698f2ac2b03d5f26f1
CREATED:20260423T133120Z
DESCRIPTION:Deputy Governor Aino Bunge participates in a panel discussion at the BIS Innovation Summit on how global cooperation helps to find solutions to challenges in the financial system.
The event will be broadcast live. Find out more on the Bank of International Settlements website: BIS Innovation Summit 2025: Future-proofing central banks.
A summary of Aino Bunge's contribution is published on www.riksbank.se.\n\nOrganiser:  BIS Innovation Hub
LAST-MODIFIED:20260423T133120Z
LOCATION:Basel, Switzerland
SEQUENCE:0
STATUS:CONFIRMED
SUMMARY:Bunge: Collaborating for a stable financial system in an era of rapid technological change
TRANSP:OPAQUE
END:VEVENT
END:VCALENDAR
