BEGIN:VCALENDAR
PRODID:-//Riksbanken//riksbanken.se//SV
VERSION:2.0
BEGIN:VEVENT
DTSTART:20250919T063000Z
DTSTAMP:20260423T133121Z
UID:2e98dcb2ecf948ef8d377b12eaef2669
CREATED:20260423T133121Z
DESCRIPTION:Governor Erik Thedéen holds the speech “Resilience pays: the strategic value of regulation and supervision” in his capacity as Chair of the Basel Committee on Banking Supervision (BCBS). The speech will take place during the EUROFI Forum 2025 conference in Copenhagen.
The speech will be published on the Bank for International Settlements (BIS) website at 08:30 the same day.\n\nOrganiser:  Eurofi
LAST-MODIFIED:20260423T133121Z
LOCATION:Copenhagen
SEQUENCE:0
STATUS:CONFIRMED
SUMMARY:Thedéen: Resilience pays: the strategic value of regulation and supervision
TRANSP:OPAQUE
END:VEVENT
END:VCALENDAR
