BEGIN:VCALENDAR
PRODID:-//Riksbanken//riksbanken.se//SV
VERSION:2.0
BEGIN:VEVENT
DTSTART:20250923T120000Z
DTSTAMP:20260423T133120Z
UID:acb18715482e4cd180f8973094ed0ef3
CREATED:20260423T133120Z
DESCRIPTION:Riksbank Governor Erik Thedéen discusses the economic situation and current monetary policy.\n\nOrganiser:  SEB and the Chamber of Commerce and Industry of Southern Sweden
LAST-MODIFIED:20260423T133120Z
LOCATION:Malmö
SEQUENCE:0
STATUS:CONFIRMED
SUMMARY:Thedéen: The economic situation and current monetary policy
TRANSP:OPAQUE
END:VEVENT
END:VCALENDAR
