BEGIN:VCALENDAR
PRODID:-//Riksbanken//riksbanken.se//SV
VERSION:2.0
BEGIN:VEVENT
DTSTART:20251105T083000Z
DTSTAMP:20260423T165828Z
UID:ec7154301b7c401eaa87f53c6afffdef
CREATED:20260423T165828Z
DESCRIPTION:The Executive Board’s monetary policy decision, including the decision on the policy rate, will be published together with the Monetary Policy Update for November 2025.
The decision on the level of the policy rate will apply from 12 November 2025.
LAST-MODIFIED:20260423T165828Z
LOCATION:
SEQUENCE:0
STATUS:CONFIRMED
SUMMARY:Publication of monetary policy decision, including the policy rate, and the Monetary Policy Update
TRANSP:OPAQUE
END:VEVENT
END:VCALENDAR
