BEGIN:VCALENDAR
PRODID:-//Riksbanken//riksbanken.se//SV
VERSION:2.0
BEGIN:VEVENT
DTSTART:20251111T083000Z
DTSTAMP:20260423T165828Z
UID:ad1d4f4f763a4d6f87fec01905fb21f0
CREATED:20260423T165828Z
DESCRIPTION:The minutes from the Executive Board's monetary policy discussion on 4 November 2025 will be published.
LAST-MODIFIED:20260423T165828Z
LOCATION:
SEQUENCE:0
STATUS:CONFIRMED
SUMMARY:Publication of the minutes from the monetary policy meeting
TRANSP:OPAQUE
END:VEVENT
END:VCALENDAR
