BEGIN:VCALENDAR
PRODID:-//Riksbanken//riksbanken.se//SV
VERSION:2.0
BEGIN:VEVENT
DTSTART:20251127T140000Z
DTSTAMP:20260423T165833Z
UID:2648a371bdd24944bb18b00f46f7f315
CREATED:20260423T165833Z
DESCRIPTION:Governor Erik Thedéen discusses inflation targeting in Sweden at a digital conference on monetary policy in emerging market economies organised by the National Bank of Ukraine.
Read more about the conference at the National Bank of Ukraine website.
Erik Thedéen will present his speech at 15:00 Swedish time and 16:00 Ukrainian time.\n\nOrganiser:  National Bank of Ukraine
LAST-MODIFIED:20260423T165833Z
LOCATION:Online
SEQUENCE:0
STATUS:CONFIRMED
SUMMARY:Thedéen: Inflation targeting in Sweden: lessons and challenges
TRANSP:OPAQUE
END:VEVENT
END:VCALENDAR
