BEGIN:VCALENDAR
PRODID:-//Riksbanken//riksbanken.se//SV
VERSION:2.0
BEGIN:VEVENT
DTSTART:20251203T080000Z
DTSTAMP:20260421T122732Z
UID:9eb554b33919451caeb51106865540c0
CREATED:20260421T122732Z
DESCRIPTION:
LAST-MODIFIED:20260421T122732Z
LOCATION:
SEQUENCE:0
STATUS:CONFIRMED
SUMMARY:Meeting of the Executive Board of the Riksbank
TRANSP:OPAQUE
END:VEVENT
END:VCALENDAR
