BEGIN:VCALENDAR
PRODID:-//Riksbanken//riksbanken.se//SV
VERSION:2.0
BEGIN:VEVENT
DTSTART:20251204T090000Z
DTEND:20251204T110000Z
DTSTAMP:20260421T122916Z
UID:aac406adc2004caab6ddb0931a85cec3
CREATED:20260421T122916Z
DESCRIPTION:Meeting of the retail payments council.
LAST-MODIFIED:20260421T122916Z
LOCATION:
SEQUENCE:0
STATUS:CONFIRMED
SUMMARY:The retail payments council
TRANSP:OPAQUE
END:VEVENT
END:VCALENDAR
