BEGIN:VCALENDAR
PRODID:-//Riksbanken//riksbanken.se//SV
VERSION:2.0
BEGIN:VEVENT
DTSTART:20260305T083000Z
DTSTAMP:20260423T074223Z
UID:325b0fbfdd424356970f8dd534ae724f
CREATED:20260423T074223Z
DESCRIPTION:The report “Account of Monetary Policy in 2025” is published on the Riksbank’s website.
LAST-MODIFIED:20260423T074223Z
LOCATION:
SEQUENCE:0
STATUS:CONFIRMED
SUMMARY:The report Account of Monetary Policy in 2025 will be published
TRANSP:OPAQUE
END:VEVENT
END:VCALENDAR
