BEGIN:VCALENDAR
PRODID:-//Riksbanken//riksbanken.se//SV
VERSION:2.0
BEGIN:VEVENT
DTSTART:20260311T083000Z
DTSTAMP:20260423T074259Z
UID:811132146070424fb154baee9cc8cd49
CREATED:20260423T074259Z
DESCRIPTION:
LAST-MODIFIED:20260423T074259Z
LOCATION:
SEQUENCE:0
STATUS:CONFIRMED
SUMMARY:The Riksbank's Business Survey, February 2026
TRANSP:OPAQUE
END:VEVENT
END:VCALENDAR
