BEGIN:VCALENDAR
PRODID:-//Riksbanken//riksbanken.se//SV
VERSION:2.0
BEGIN:VEVENT
DTSTART:20260412T220000Z
DTSTAMP:20260420T123437Z
UID:3c165fd82bd542a4ad242037e73a26e6
CREATED:20260420T123437Z
DESCRIPTION:Erik Thedéen and Anna Seim attend the IMF Spring Meetings in Washington D.C. Monday, April 13 - Friday, April 17. Read more on the IMF website.\n\nOrganiser:  International Monetary Fund (IMF)
LAST-MODIFIED:20260420T123437Z
LOCATION:Washington D.C.
SEQUENCE:0
STATUS:CONFIRMED
SUMMARY:Erik Thedéen and Anna Seim attend the IMF Spring Meetings
TRANSP:OPAQUE
END:VEVENT
END:VCALENDAR
