BEGIN:VCALENDAR
PRODID:-//Riksbanken//riksbanken.se//SV
VERSION:2.0
BEGIN:VEVENT
DTSTART:20260609T073000Z
DTSTAMP:20260423T233209Z
UID:0a62f7e50ff0478e82777fbb5f174a2e
CREATED:20260423T233209Z
DESCRIPTION:
LAST-MODIFIED:20260423T233209Z
LOCATION:
SEQUENCE:0
STATUS:CONFIRMED
SUMMARY:The Riksbank's Business Survey, May 2026
TRANSP:OPAQUE
END:VEVENT
END:VCALENDAR
