BEGIN:VCALENDAR
PRODID:-//Riksbanken//riksbanken.se//SV
VERSION:2.0
BEGIN:VEVENT
DTSTART:20260820T090000Z
DTSTAMP:20260423T165802Z
UID:57902df6d822402b94f34680a8f132fe
CREATED:20260423T165802Z
DESCRIPTION:The Riksbank is arranging a press conference on the monetary policy decision. The press conference will take place at the Riksbank, Brunkebergstorg 11. Press cards or the equivalent must be shown to attend. The press conference will be broadcast live at riksbank.se and on Youtube.
LAST-MODIFIED:20260423T165802Z
LOCATION:The Riksbank, Brunkebergstorg
SEQUENCE:0
STATUS:CONFIRMED
SUMMARY:Press conference on the August monetary policy decision
TRANSP:OPAQUE
END:VEVENT
END:VCALENDAR
