BEGIN:VCALENDAR
PRODID:-//Riksbanken//riksbanken.se//SV
VERSION:2.0
BEGIN:VEVENT
DTSTART:20260305T083000Z
DTSTAMP:20260423T103346Z
UID:5e0f88e887474b93865b0557c6c79920
CREATED:20260423T103346Z
DESCRIPTION:Rapporten ”Redogörelse för penningpolitiken 2025 publiceras” på Riksbankens webbplats.
LAST-MODIFIED:20260423T103346Z
LOCATION:
SEQUENCE:0
STATUS:CONFIRMED
SUMMARY:Rapporten Redogörelse för penningpolitiken 2025 publiceras
TRANSP:OPAQUE
END:VEVENT
END:VCALENDAR
