BEGIN:VCALENDAR
PRODID:-//Riksbanken//riksbanken.se//SV
VERSION:2.0
BEGIN:VEVENT
DTSTART:20260311T083000Z
DTSTAMP:20260423T103523Z
UID:97f904dd058d4c8b83bfeb43fa036771
CREATED:20260423T103523Z
DESCRIPTION:
LAST-MODIFIED:20260423T103523Z
LOCATION:
SEQUENCE:0
STATUS:CONFIRMED
SUMMARY:Riksbankens företagsundersökning, februari 2026
TRANSP:OPAQUE
END:VEVENT
END:VCALENDAR
