BEGIN:VCALENDAR
PRODID:-//Riksbanken//riksbanken.se//SV
VERSION:2.0
BEGIN:VEVENT
DTSTART:20260412T220000Z
DTSTAMP:20260422T111212Z
UID:d0c61376ee534b96817bad27a6d31d9a
CREATED:20260422T111212Z
DESCRIPTION:Erik Thedéen och Anna Seim deltar på IMF:s vårmöte i Washington D.C. måndag 13 april - fredag 17 april. Läs mer på IMF:s webbplats.\n\nArrangör:  Internationella Valutafonden (IMF)
LAST-MODIFIED:20260422T111212Z
LOCATION:Washington D.C.
SEQUENCE:0
STATUS:CONFIRMED
SUMMARY:Thedéen och Seim deltar vid IMF:s vårmöte
TRANSP:OPAQUE
END:VEVENT
END:VCALENDAR
