BEGIN:VCALENDAR
PRODID:-//Riksbanken//riksbanken.se//SV
VERSION:2.0
BEGIN:VEVENT
DTSTART:20260507T090000Z
DTSTAMP:20260423T205737Z
UID:4f7de63db4bf41f5b4eb5a26dd1221a8
CREATED:20260423T205737Z
DESCRIPTION:Riksbanken arrangerar en pressträff om det penningpolitiska beslutet. Pressträffen äger rum på Riksbanken, Brunkebergstorg 11. För att delta krävs presslegitimation eller motsvarande. Pressträffen direktsänds på riksbank.se och på Riksbankens Youtube-kanal.
LAST-MODIFIED:20260423T205737Z
LOCATION:Riksbanken, Brunkebergstorg
SEQUENCE:0
STATUS:CONFIRMED
SUMMARY:Pressträff om det penningpolitiska beslutet i maj
TRANSP:OPAQUE
END:VEVENT
END:VCALENDAR
