BEGIN:VCALENDAR
PRODID:-//Riksbanken//riksbanken.se//SV
VERSION:2.0
BEGIN:VEVENT
DTSTART:20260617T090000Z
DTSTAMP:20260423T220711Z
UID:26b79c4c02dd4191b8d868a06e6cdaed
CREATED:20260423T220711Z
DESCRIPTION:Riksbanken arrangerar en pressträff om det penningpolitiska beslutet. Pressträffen äger rum på Riksbanken, Brunkebergstorg 11. För att delta krävs presslegitimation eller motsvarande. Pressträffen direktsänds på riksbank.se och på Riksbankens Youtube-kanal.
LAST-MODIFIED:20260423T220711Z
LOCATION:Riksbanken, Brunkebergstorg
SEQUENCE:0
STATUS:CONFIRMED
SUMMARY:Pressträff om det penningpolitiska beslutet i
TRANSP:OPAQUE
END:VEVENT
END:VCALENDAR
